{
 "currentVersion": 11.5,
 "cimVersion": "3.5.0",
 "serviceDescription": "",
 "mapName": "SSUC_Basemap_Ar",
 "description": "",
 "copyrightText": "",
 "supportsDynamicLayers": true,
 "layers": [
  {
   "id": 26,
   "name": "Curb",
   "parentLayerId": -1,
   "defaultVisibility": true,
   "subLayerIds": null,
   "minScale": 200,
   "maxScale": 0,
   "type": "Feature Layer",
   "geometryType": "esriGeometryPolyline",
   "supportsDynamicLegends": true
  },
  {
   "id": 149,
   "name": "Signage",
   "parentLayerId": -1,
   "defaultVisibility": true,
   "subLayerIds": null,
   "minScale": 1000,
   "maxScale": 0,
   "type": "Feature Layer",
   "geometryType": "esriGeometryPoint",
   "supportsDynamicLegends": true
  },
  {
   "id": 205,
   "name": "Campus Gates",
   "parentLayerId": -1,
   "defaultVisibility": true,
   "subLayerIds": null,
   "minScale": 33115,
   "maxScale": 0,
   "type": "Feature Layer",
   "geometryType": "esriGeometryPoint",
   "supportsDynamicLegends": true
  },
  {
   "id": 203,
   "name": "Courts",
   "parentLayerId": -1,
   "defaultVisibility": true,
   "subLayerIds": [
    22,
    182
   ],
   "minScale": 57220,
   "maxScale": 0,
   "type": "Group Layer",
   "supportsDynamicLegends": false
  },
  {
   "id": 22,
   "name": "CourtMarkup_2023",
   "parentLayerId": 203,
   "defaultVisibility": true,
   "subLayerIds": null,
   "minScale": 15433,
   "maxScale": 0,
   "type": "Feature Layer",
   "geometryType": "esriGeometryPolyline",
   "supportsDynamicLegends": true
  },
  {
   "id": 182,
   "name": "LandScape",
   "parentLayerId": 203,
   "defaultVisibility": true,
   "subLayerIds": null,
   "minScale": 15433,
   "maxScale": 0,
   "type": "Feature Layer",
   "geometryType": "esriGeometryPolygon",
   "supportsDynamicLegends": true
  },
  {
   "id": 196,
   "name": "Roads",
   "parentLayerId": -1,
   "defaultVisibility": true,
   "subLayerIds": [
    156,
    197,
    157,
    176,
    177,
    201
   ],
   "minScale": 0,
   "maxScale": 0,
   "type": "Group Layer",
   "supportsDynamicLegends": false
  },
  {
   "id": 156,
   "name": "StreetLabel_Web",
   "parentLayerId": 196,
   "defaultVisibility": true,
   "subLayerIds": null,
   "minScale": 17555,
   "maxScale": 0,
   "type": "Feature Layer",
   "geometryType": "esriGeometryPolyline",
   "supportsDynamicLegends": true
  },
  {
   "id": 197,
   "name": "Parking Streets",
   "parentLayerId": 196,
   "defaultVisibility": true,
   "subLayerIds": null,
   "minScale": 7000,
   "maxScale": 0,
   "type": "Feature Layer",
   "geometryType": "esriGeometryPolyline",
   "supportsDynamicLegends": true
  },
  {
   "id": 157,
   "name": "Roads_9.6k",
   "parentLayerId": 196,
   "defaultVisibility": true,
   "subLayerIds": [
    198,
    175
   ],
   "minScale": 9600,
   "maxScale": 0,
   "type": "Group Layer",
   "supportsDynamicLegends": false
  },
  {
   "id": 198,
   "name": "Roads_9.6k",
   "parentLayerId": 157,
   "defaultVisibility": true,
   "subLayerIds": null,
   "minScale": 9600,
   "maxScale": 0,
   "type": "Feature Layer",
   "geometryType": "esriGeometryPolyline",
   "supportsDynamicLegends": true
  },
  {
   "id": 175,
   "name": "Asphalt",
   "parentLayerId": 157,
   "defaultVisibility": false,
   "subLayerIds": null,
   "minScale": 9600,
   "maxScale": 0,
   "type": "Feature Layer",
   "geometryType": "esriGeometryPolygon",
   "supportsDynamicLegends": true
  },
  {
   "id": 176,
   "name": "Roads_30k",
   "parentLayerId": 196,
   "defaultVisibility": true,
   "subLayerIds": [
    199
   ],
   "minScale": 30000,
   "maxScale": 9600,
   "type": "Group Layer",
   "supportsDynamicLegends": false
  },
  {
   "id": 199,
   "name": "Roads_30k",
   "parentLayerId": 176,
   "defaultVisibility": true,
   "subLayerIds": null,
   "minScale": 30000,
   "maxScale": 9600,
   "type": "Feature Layer",
   "geometryType": "esriGeometryPolyline",
   "supportsDynamicLegends": true
  },
  {
   "id": 177,
   "name": "Roads_57k",
   "parentLayerId": 196,
   "defaultVisibility": true,
   "subLayerIds": [
    200
   ],
   "minScale": 57220,
   "maxScale": 30000,
   "type": "Group Layer",
   "supportsDynamicLegends": false
  },
  {
   "id": 200,
   "name": "Roads_57k",
   "parentLayerId": 177,
   "defaultVisibility": true,
   "subLayerIds": null,
   "minScale": 57220,
   "maxScale": 30000,
   "type": "Feature Layer",
   "geometryType": "esriGeometryPolyline",
   "supportsDynamicLegends": true
  },
  {
   "id": 201,
   "name": "Roads ",
   "parentLayerId": 196,
   "defaultVisibility": true,
   "subLayerIds": null,
   "minScale": 89407,
   "maxScale": 57220,
   "type": "Feature Layer",
   "geometryType": "esriGeometryPolyline",
   "supportsDynamicLegends": true
  },
  {
   "id": 194,
   "name": "ParkingLabel",
   "parentLayerId": -1,
   "defaultVisibility": true,
   "subLayerIds": null,
   "minScale": 57220,
   "maxScale": 0,
   "type": "Feature Layer",
   "geometryType": "esriGeometryPolygon",
   "supportsDynamicLegends": true
  },
  {
   "id": 191,
   "name": "Parking",
   "parentLayerId": -1,
   "defaultVisibility": true,
   "subLayerIds": [
    151,
    192
   ],
   "minScale": 57220,
   "maxScale": 0,
   "type": "Group Layer",
   "supportsDynamicLegends": false
  },
  {
   "id": 151,
   "name": "CarPark_Disabled",
   "parentLayerId": 191,
   "defaultVisibility": true,
   "subLayerIds": null,
   "minScale": 679,
   "maxScale": 0,
   "type": "Feature Layer",
   "geometryType": "esriGeometryPoint",
   "supportsDynamicLegends": true
  },
  {
   "id": 192,
   "name": "Car Park",
   "parentLayerId": 191,
   "defaultVisibility": true,
   "subLayerIds": null,
   "minScale": 4000,
   "maxScale": 0,
   "type": "Feature Layer",
   "geometryType": "esriGeometryPolygon",
   "supportsDynamicLegends": true
  },
  {
   "id": 189,
   "name": "Buildings",
   "parentLayerId": -1,
   "defaultVisibility": true,
   "subLayerIds": [
    170,
    187
   ],
   "minScale": 0,
   "maxScale": 0,
   "type": "Group Layer",
   "supportsDynamicLegends": false
  },
  {
   "id": 170,
   "name": "Building_py_30K",
   "parentLayerId": 189,
   "defaultVisibility": true,
   "subLayerIds": null,
   "minScale": 57220,
   "maxScale": 9600,
   "type": "Feature Layer",
   "geometryType": "esriGeometryPolygon",
   "supportsDynamicLegends": true
  },
  {
   "id": 187,
   "name": "Building_py_9K",
   "parentLayerId": 189,
   "defaultVisibility": true,
   "subLayerIds": null,
   "minScale": 9600,
   "maxScale": 3167,
   "type": "Feature Layer",
   "geometryType": "esriGeometryPolygon",
   "supportsDynamicLegends": true
  },
  {
   "id": 183,
   "name": "Lanscape Features",
   "parentLayerId": -1,
   "defaultVisibility": true,
   "subLayerIds": [
    29,
    30,
    167,
    150,
    171
   ],
   "minScale": 57220,
   "maxScale": 0,
   "type": "Group Layer",
   "supportsDynamicLegends": false
  },
  {
   "id": 29,
   "name": "InfraStairs_ln_2023",
   "parentLayerId": 183,
   "defaultVisibility": true,
   "subLayerIds": null,
   "minScale": 7691,
   "maxScale": 0,
   "type": "Feature Layer",
   "geometryType": "esriGeometryPolyline",
   "supportsDynamicLegends": true
  },
  {
   "id": 30,
   "name": "Wall_Project",
   "parentLayerId": 183,
   "defaultVisibility": true,
   "subLayerIds": null,
   "minScale": 7691,
   "maxScale": 0,
   "type": "Feature Layer",
   "geometryType": "esriGeometryPolyline",
   "supportsDynamicLegends": true
  },
  {
   "id": 167,
   "name": "LandScape",
   "parentLayerId": 183,
   "defaultVisibility": true,
   "subLayerIds": null,
   "minScale": 7691,
   "maxScale": 0,
   "type": "Feature Layer",
   "geometryType": "esriGeometryPolygon",
   "supportsDynamicLegends": true
  },
  {
   "id": 150,
   "name": "Pedestrain_Web",
   "parentLayerId": 183,
   "defaultVisibility": true,
   "subLayerIds": null,
   "minScale": 4000,
   "maxScale": 0,
   "type": "Feature Layer",
   "geometryType": "esriGeometryPolyline",
   "supportsDynamicLegends": true
  },
  {
   "id": 171,
   "name": "Asphalt",
   "parentLayerId": 183,
   "defaultVisibility": true,
   "subLayerIds": null,
   "minScale": 9600,
   "maxScale": 0,
   "type": "Feature Layer",
   "geometryType": "esriGeometryPolygon",
   "supportsDynamicLegends": true
  },
  {
   "id": 181,
   "name": "Campus Boundary",
   "parentLayerId": -1,
   "defaultVisibility": true,
   "subLayerIds": null,
   "minScale": 0,
   "maxScale": 0,
   "type": "Feature Layer",
   "geometryType": "esriGeometryPolygon",
   "supportsDynamicLegends": true
  },
  {
   "id": 21,
   "name": "Parcels",
   "parentLayerId": -1,
   "defaultVisibility": true,
   "subLayerIds": null,
   "minScale": 89407,
   "maxScale": 0,
   "type": "Feature Layer",
   "geometryType": "esriGeometryPolygon",
   "supportsDynamicLegends": true
  }
 ],
 "tables": [],
 "spatialReference": {
  "wkid": 102100,
  "latestWkid": 3857,
  "xyTolerance": 0.001,
  "zTolerance": 0.001,
  "mTolerance": 0.001,
  "falseX": -20037700,
  "falseY": -30241100,
  "xyUnits": 10000,
  "falseZ": -100000,
  "zUnits": 10000,
  "falseM": -100000,
  "mUnits": 10000
 },
 "singleFusedMapCache": true,
 "tileInfo": {
  "rows": 512,
  "cols": 512,
  "dpi": 96,
  "format": "PNG",
  "compressionQuality": 0,
  "origin": {
   "x": -2.0037508342787E7,
   "y": 2.0037508342787E7
  },
  "spatialReference": {
   "wkid": 102100,
   "latestWkid": 3857,
   "xyTolerance": 0.001,
   "zTolerance": 0.001,
   "mTolerance": 0.001,
   "falseX": -20037700,
   "falseY": -30241100,
   "xyUnits": 10000,
   "falseZ": -100000,
   "zUnits": 10000,
   "falseM": -100000,
   "mUnits": 10000
  },
  "lods": [
   {
    "level": 0,
    "resolution": 78271.516964,
    "scale": 2.9582876379577726E8
   },
   {
    "level": 1,
    "resolution": 39135.75848199995,
    "scale": 1.4791438189788842E8
   },
   {
    "level": 2,
    "resolution": 19567.87924100005,
    "scale": 7.395719094894451E7
   },
   {
    "level": 3,
    "resolution": 9783.93962049995,
    "scale": 3.697859547447197E7
   },
   {
    "level": 4,
    "resolution": 4891.96981024998,
    "scale": 1.8489297737236E7
   },
   {
    "level": 5,
    "resolution": 2445.98490512499,
    "scale": 9244648.868618
   },
   {
    "level": 6,
    "resolution": 1222.992452562495,
    "scale": 4622324.434309
   },
   {
    "level": 7,
    "resolution": 611.496226281245,
    "scale": 2311162.2171544908
   },
   {
    "level": 8,
    "resolution": 305.74811314069,
    "scale": 1155581.1085775006
   },
   {
    "level": 9,
    "resolution": 152.874056570279,
    "scale": 577790.5542885009
   },
   {
    "level": 10,
    "resolution": 76.4370282852055,
    "scale": 288895.2771444999
   },
   {
    "level": 11,
    "resolution": 38.2185141425366,
    "scale": 144447.6385719999
   },
   {
    "level": 12,
    "resolution": 19.1092570712683,
    "scale": 72223.81928599995
   },
   {
    "level": 13,
    "resolution": 9.55462853563415,
    "scale": 36111.90964299998
   },
   {
    "level": 14,
    "resolution": 4.777314267817075,
    "scale": 18055.95482149999
   },
   {
    "level": 15,
    "resolution": 2.388657133974685,
    "scale": 9027.977411
   },
   {
    "level": 16,
    "resolution": 1.19432856698734,
    "scale": 4513.988705499991
   },
   {
    "level": 17,
    "resolution": 0.597164283427525,
    "scale": 2256.9943524999994
   },
   {
    "level": 18,
    "resolution": 0.2985821417799085,
    "scale": 1128.4971764999998
   },
   {
    "level": 19,
    "resolution": 0.1492910708238085,
    "scale": 564.2485880000006
   },
   {
    "level": 20,
    "resolution": 0.07464553541190416,
    "scale": 282.124294
   },
   {
    "level": 21,
    "resolution": 0.03732276770595208,
    "scale": 141.062147
   },
   {
    "level": 22,
    "resolution": 0.01866138385297604,
    "scale": 70.5310735
   }
  ]
 },
 "storageInfo": {
  "storageFormat": "esriMapCacheStorageModeCompactV2",
  "packetSize": 128
 },
 "initialExtent": {
  "xmin": 5321524.521489097,
  "ymin": 3402088.1170453727,
  "xmax": 5338976.202553701,
  "ymax": 3415205.393662559,
  "spatialReference": {
   "cs": "pcs",
   "wkid": 102100
  }
 },
 "fullExtent": {
  "xmin": 5291355.320189214,
  "ymin": 3386836.6799099124,
  "xmax": 5374980.50995668,
  "ymax": 3427802.0048193345,
  "spatialReference": {
   "cs": "pcs",
   "wkid": 102100
  }
 },
 "datesInUnknownTimezone": false,
 "minScale": 288895.2771444999,
 "maxScale": 9027.977411,
 "minLOD": 10,
 "maxLOD": 15,
 "units": "esriMeters",
 "supportedImageFormatTypes": "PNG32,PNG24,PNG,JPG,DIB,TIFF,EMF,PS,PDF,GIF,SVG,SVGZ,BMP",
 "documentInfo": {
  "Title": "SSUC_Basemap_En",
  "Author": "",
  "Comments": "",
  "Subject": "",
  "Category": "",
  "Version": "3.2.0",
  "AntialiasingMode": "Fast",
  "TextAntialiasingMode": "Force",
  "Keywords": ""
 },
 "supportsQueryDomains": true,
 "capabilities": "Map,Query,Data",
 "supportedQueryFormats": "JSON, geoJSON, PBF",
 "exportTilesAllowed": false,
 "referenceScale": 0.0,
 "datumTransformations": [
  {
   "geoTransforms": [
    {
     "wkid": 108451,
     "latestWkid": 108451,
     "transformForward": false,
     "name": "WGS_1984_To_KUDAMS_KM_2019"
    }
   ]
  },
  {
   "geoTransforms": [
    {
     "wkid": 108451,
     "latestWkid": 108451,
     "transformForward": true,
     "name": "WGS_1984_To_KUDAMS_KM_2019"
    }
   ]
  }
 ],
 "supportsDatumTransformation": true,
 "archivingInfo": {
  "supportsHistoricMoment": false
 },
 "supportsClipping": true,
 "supportsSpatialFilter": true,
 "supportsTimeRelation": true,
 "supportsQueryDataElements": true,
 "mapUnits": {
  "uwkid": 9001
 },
 "maxSelectionCount": 2000,
 "maxRecordCount": 2000,
 "maxImageHeight": 4096,
 "maxImageWidth": 4096,
 "supportedExtensions": "FeatureServer",
 "resampling": false,
 "serviceItemId": "9be517a04a524ae1b326fef05c99be85"
}
